{
 "currentVersion": 10.91,
 "serviceDescription": "This data set consists of 25 cm pixel resolution 1 band, 8 bit ortho images captured between Jun and October 1958 and december 1959 due to a refight of missed areas. This imagery is at a photo scale of 1:15840. The aerial film was scanned at 12.5 microns with a high precision photogrammetric scanner. Output format of the scans are uncompressed TIF format and were later converted to JPEG format and mosaicked after ortho correction and color balancing in Metashape. The project location is in the Tonto National Forest. The project coordinate system is UTM, Zone 13 North, NAD 83, Meters. Slight systematic radiometric differences may exist between adjacent ortho image files; these are due primarily to differences in source image capture dates and sun angles along flight lines. These differences can be observed in an image's general lightness or darkness when it is compared to adjacent ortho image file coverages. Tonal balancing and color adjustments may be performed over a group of images during the mosaicking process which may serve to lighten or darken adjacent images for better color tone matching. All GeoTIFF tagged data and image file sizes are validated using commercial GIS software to ensure proper loading before being archived. This validation procedure ensures correct physical format and field values for tagged elements. Seamlines and tile edges are visually inspected. Ortho images are visually inspected for completeness to ensure that no gaps or image misplacements exist within and between adjacent images. These images are derived by mosaicking multiple images to ensure complete coverage. Source imagery is cloud free.",
 "name": "Imagery/TNF1958",
 "description": "This data set consists of 25 cm pixel resolution 1 band, 8 bit ortho images captured between Jun and October 1958 and december 1959 due to a refight of missed areas. This imagery is at a photo scale of 1:15840. The aerial film was scanned at 12.5 microns with a high precision photogrammetric scanner. Output format of the scans are uncompressed TIF format and were later converted to JPEG format and mosaicked after ortho correction and color balancing in Metashape. The project location is in the Tonto National Forest. The project coordinate system is UTM, Zone 13 North, NAD 83, Meters. Slight systematic radiometric differences may exist between adjacent ortho image files; these are due primarily to differences in source image capture dates and sun angles along flight lines. These differences can be observed in an image's general lightness or darkness when it is compared to adjacent ortho image file coverages. Tonal balancing and color adjustments may be performed over a group of images during the mosaicking process which may serve to lighten or darken adjacent images for better color tone matching. All GeoTIFF tagged data and image file sizes are validated using commercial GIS software to ensure proper loading before being archived. This validation procedure ensures correct physical format and field values for tagged elements. Seamlines and tile edges are visually inspected. Ortho images are visually inspected for completeness to ensure that no gaps or image misplacements exist within and between adjacent images. These images are derived by mosaicking multiple images to ensure complete coverage. Source imagery is cloud free.",
 "extent": {
  "xmin": 399893.81217541714,
  "ymin": 3657764.8470302504,
  "xmax": 547983.5621754171,
  "ymax": 3820434.8470302504,
  "spatialReference": {
   "wkid": 26912,
   "latestWkid": 26912
  }
 },
 "initialExtent": {
  "xmin": 399893.81217541714,
  "ymin": 3657764.8470302504,
  "xmax": 547983.5621754171,
  "ymax": 3820434.8470302504,
  "spatialReference": {
   "wkid": 26912,
   "latestWkid": 26912
  }
 },
 "fullExtent": {
  "xmin": 399893.81217541714,
  "ymin": 3657764.8470302504,
  "xmax": 547983.5621754171,
  "ymax": 3820434.8470302504,
  "spatialReference": {
   "wkid": 26912,
   "latestWkid": 26912
  }
 },
 "pixelSizeX": 0.2499999999999999,
 "pixelSizeY": 0.25,
 "bandCount": 1,
 "pixelType": "U8",
 "minPixelSize": 0,
 "maxPixelSize": 0,
 "copyrightText": "USDA - APFO - GTAC, 2/25/2022",
 "serviceDataType": "esriImageServiceDataTypeGeneric",
 "minValues": [
  34
 ],
 "maxValues": [
  255
 ],
 "meanValues": [
  131.54101680808046
 ],
 "stdvValues": [
  18.437632856385363
 ],
 "objectIdField": "OBJECTID",
 "fields": [
  {
   "name": "OBJECTID",
   "type": "esriFieldTypeOID",
   "alias": "OBJECTID",
   "domain": null
  },
  {
   "name": "Shape",
   "type": "esriFieldTypeGeometry",
   "alias": "Shape",
   "domain": null
  },
  {
   "name": "Name",
   "type": "esriFieldTypeString",
   "alias": "Name",
   "domain": null,
   "length": 200
  },
  {
   "name": "MinPS",
   "type": "esriFieldTypeDouble",
   "alias": "MinPS",
   "domain": null
  },
  {
   "name": "MaxPS",
   "type": "esriFieldTypeDouble",
   "alias": "MaxPS",
   "domain": null
  },
  {
   "name": "LowPS",
   "type": "esriFieldTypeDouble",
   "alias": "LowPS",
   "domain": null
  },
  {
   "name": "HighPS",
   "type": "esriFieldTypeDouble",
   "alias": "HighPS",
   "domain": null
  },
  {
   "name": "Category",
   "type": "esriFieldTypeInteger",
   "alias": "Category",
   "domain": {
    "type": "codedValue",
    "name": "MosaicCatalogItemCategoryDomain",
    "description": "Catalog item categories.",
    "codedValues": [
     {
      "name": "Unknown",
      "code": 0
     },
     {
      "name": "Primary",
      "code": 1
     },
     {
      "name": "Overview",
      "code": 2
     },
     {
      "name": "Unprocessed Overview",
      "code": 3
     },
     {
      "name": "Partial Overview",
      "code": 4
     },
     {
      "name": "Inactive",
      "code": 5
     },
     {
      "name": "Uploaded",
      "code": 253
     },
     {
      "name": "Incomplete",
      "code": 254
     },
     {
      "name": "Custom",
      "code": 255
     }
    ],
    "mergePolicy": "esriMPTDefaultValue",
    "splitPolicy": "esriSPTDefaultValue"
   }
  },
  {
   "name": "Tag",
   "type": "esriFieldTypeString",
   "alias": "Tag",
   "domain": null,
   "length": 100
  },
  {
   "name": "GroupName",
   "type": "esriFieldTypeString",
   "alias": "GroupName",
   "domain": null,
   "length": 100
  },
  {
   "name": "ProductName",
   "type": "esriFieldTypeString",
   "alias": "ProductName",
   "domain": null,
   "length": 100
  },
  {
   "name": "CenterX",
   "type": "esriFieldTypeDouble",
   "alias": "CenterX",
   "domain": null
  },
  {
   "name": "CenterY",
   "type": "esriFieldTypeDouble",
   "alias": "CenterY",
   "domain": null
  },
  {
   "name": "ZOrder",
   "type": "esriFieldTypeInteger",
   "alias": "ZOrder",
   "domain": null
  },
  {
   "name": "Shape_Length",
   "type": "esriFieldTypeDouble",
   "alias": "Shape_Length",
   "domain": null
  },
  {
   "name": "Shape_Area",
   "type": "esriFieldTypeDouble",
   "alias": "Shape_Area",
   "domain": null
  }
 ],
 "capabilities": "Image,Metadata,Catalog",
 "defaultMosaicMethod": "Northwest",
 "allowedMosaicMethods": "NorthWest,Center,LockRaster,ByAttribute,Nadir,Viewpoint,Seamline,None",
 "sortField": "",
 "sortValue": null,
 "sortAscending": true,
 "mosaicOperator": "First",
 "maxDownloadSizeLimit": 2048,
 "defaultCompressionQuality": 75,
 "defaultResamplingMethod": "Bilinear",
 "maxImageHeight": 4100,
 "maxImageWidth": 15000,
 "maxRecordCount": 1000,
 "maxDownloadImageCount": 20,
 "maxMosaicImageCount": 20,
 "allowRasterFunction": true,
 "rasterFunctionInfos": [
  {
   "name": "None",
   "description": "A No-Op Function.",
   "help": ""
  }
 ],
 "rasterTypeInfos": [
  {
   "name": "Raster Dataset",
   "description": "Supports all ArcGIS Raster Datasets",
   "help": ""
  }
 ],
 "mensurationCapabilities": "None",
 "hasHistograms": true,
 "hasColormap": false,
 "hasRasterAttributeTable": false,
 "minScale": 0,
 "maxScale": 0,
 "exportTilesAllowed": false,
 "hasMultidimensions": false,
 "supportsStatistics": true,
 "supportsAdvancedQueries": true,
 "editFieldsInfo": null,
 "ownershipBasedAccessControlForRasters": null,
 "allowComputeTiePoints": false,
 "useStandardizedQueries": true,
 "advancedQueryCapabilities": {
  "useStandardizedQueries": true,
  "supportsStatistics": true,
  "supportsOrderBy": true,
  "supportsDistinct": true,
  "supportsPagination": true
 },
 "spatialReference": {
  "wkid": 26912,
  "latestWkid": 26912
 }
}
